BEGIN:VCALENDAR
VERSION:2.0
PRODID:-//Foyers Ruraux de l&#039;Autunois Morvan - ECPv6.2.9//NONSGML v1.0//EN
CALSCALE:GREGORIAN
METHOD:PUBLISH
X-WR-CALNAME:Foyers Ruraux de l&#039;Autunois Morvan
X-ORIGINAL-URL:https://autunoismorvan.foyersruraux.org
X-WR-CALDESC:évènements pour Foyers Ruraux de l&#039;Autunois Morvan
REFRESH-INTERVAL;VALUE=DURATION:PT1H
X-Robots-Tag:noindex
X-PUBLISHED-TTL:PT1H
BEGIN:VTIMEZONE
TZID:Europe/Paris
BEGIN:DAYLIGHT
TZOFFSETFROM:+0100
TZOFFSETTO:+0200
TZNAME:CEST
DTSTART:20240331T010000
END:DAYLIGHT
BEGIN:STANDARD
TZOFFSETFROM:+0200
TZOFFSETTO:+0100
TZNAME:CET
DTSTART:20241027T010000
END:STANDARD
END:VTIMEZONE
BEGIN:VEVENT
DTSTART;TZID=Europe/Paris:20241012T203000
DTEND;TZID=Europe/Paris:20241012T203000
DTSTAMP:20260424T174302
CREATED:20241010T104655Z
LAST-MODIFIED:20241011T144558Z
UID:21511-1728765000-1728765000@autunoismorvan.foyersruraux.org
SUMMARY:Théâtre "Psy Au Logis" à Neuvy Granchamp
DESCRIPTION:A noter dans vos agendas et à ne surtout pas manquer!!\n\n\n Représentation théâtrale de la troupe de Neuvy Grandchamp
URL:https://autunoismorvan.foyersruraux.org/evenement/theatre-psy-au-logis-a-neuvy-granchamp/
LOCATION:Neuvy Grandchamp
CATEGORIES:théâtre
ATTACH;FMTTYPE=image/jpeg:https://autunoismorvan.foyersruraux.org/wp-content/uploads/sites/10/2024/10/Theatre_NeuvyGrandchamp.jpg
END:VEVENT
BEGIN:VEVENT
DTSTART;TZID=Europe/Paris:20241014T200000
DTEND;TZID=Europe/Paris:20241014T220000
DTSTAMP:20260424T174302
CREATED:20241010T123133Z
LAST-MODIFIED:20241011T144157Z
UID:21608-1728936000-1728943200@autunoismorvan.foyersruraux.org
SUMMARY:Théâtre Adulte à Neuvy Grandchamp
DESCRIPTION:La troupe du Foyer Rural remonte elle aussi sur les planches\, avec sa nouvelle pièce “Psy Au Logis”. \nRépétitions les lundis de 20h à 22h. \n 
URL:https://autunoismorvan.foyersruraux.org/evenement/theatre-adulte-a-neuvy-grandchamp/2024-10-14/
LOCATION:Neuvy Grandchamp
CATEGORIES:théâtre
ATTACH;FMTTYPE=image/jpeg:https://autunoismorvan.foyersruraux.org/wp-content/uploads/sites/10/2024/10/theatre.jpg
END:VEVENT
BEGIN:VEVENT
DTSTART;TZID=Europe/Paris:20241019T203000
DTEND;TZID=Europe/Paris:20241019T203000
DTSTAMP:20260424T174302
CREATED:20241010T104655Z
LAST-MODIFIED:20241011T144558Z
UID:21522-1729369800-1729369800@autunoismorvan.foyersruraux.org
SUMMARY:Théâtre "Psy Au Logis" à Neuvy Granchamp
DESCRIPTION:A noter dans vos agendas et à ne surtout pas manquer!!\n\n\n Représentation théâtrale de la troupe de Neuvy Grandchamp
URL:https://autunoismorvan.foyersruraux.org/evenement/theatre-psy-au-logis-a-neuvy-granchamp/2024-10-19/
LOCATION:Neuvy Grandchamp
CATEGORIES:théâtre
ATTACH;FMTTYPE=image/jpeg:https://autunoismorvan.foyersruraux.org/wp-content/uploads/sites/10/2024/10/Theatre_NeuvyGrandchamp.jpg
END:VEVENT
BEGIN:VEVENT
DTSTART;TZID=Europe/Paris:20241021T200000
DTEND;TZID=Europe/Paris:20241021T220000
DTSTAMP:20260424T174302
CREATED:20241010T123133Z
LAST-MODIFIED:20241011T144158Z
UID:21611-1729540800-1729548000@autunoismorvan.foyersruraux.org
SUMMARY:Théâtre Adulte à Neuvy Grandchamp
DESCRIPTION:La troupe du Foyer Rural remonte elle aussi sur les planches\, avec sa nouvelle pièce “Psy Au Logis”. \nRépétitions les lundis de 20h à 22h. \n 
URL:https://autunoismorvan.foyersruraux.org/evenement/theatre-adulte-a-neuvy-grandchamp/2024-10-21/
LOCATION:Neuvy Grandchamp
CATEGORIES:théâtre
ATTACH;FMTTYPE=image/jpeg:https://autunoismorvan.foyersruraux.org/wp-content/uploads/sites/10/2024/10/theatre.jpg
END:VEVENT
BEGIN:VEVENT
DTSTART;TZID=Europe/Paris:20241028T193000
DTEND;TZID=Europe/Paris:20241028T213000
DTSTAMP:20260424T174302
CREATED:20241029T130010Z
LAST-MODIFIED:20241029T130527Z
UID:21964-1730143800-1730151000@autunoismorvan.foyersruraux.org
SUMMARY:Atelier théâtre - Toulon sur Arroux
DESCRIPTION:Intervenante : Julie Roux\, metteuse en scène et actrice\, mêlant jeux\, improvisations et travail du jeu d’acteur. \nTous les lundis de 19h30 à 21h30 à la Salle Jean Chandioux \nContact : Lina Zupancic : 07.61.74.92.91 \nCarté adhésion : 24€ / an\nParticipation à l’activité : 160€ / an
URL:https://autunoismorvan.foyersruraux.org/evenement/atelier-theatre-toulon-sur-arroux/2024-10-28/
CATEGORIES:théâtre
ATTACH;FMTTYPE=image/jpeg:https://autunoismorvan.foyersruraux.org/wp-content/uploads/sites/10/2024/10/1000_F_102480447_B7eoQaFfA6crGGQBQXvN8C6ciVk4TgOV-e1730206459389.jpg
END:VEVENT
BEGIN:VEVENT
DTSTART;TZID=Europe/Paris:20241028T200000
DTEND;TZID=Europe/Paris:20241028T220000
DTSTAMP:20260424T174302
CREATED:20241010T123133Z
LAST-MODIFIED:20241011T144158Z
UID:21612-1730145600-1730152800@autunoismorvan.foyersruraux.org
SUMMARY:Théâtre Adulte à Neuvy Grandchamp
DESCRIPTION:La troupe du Foyer Rural remonte elle aussi sur les planches\, avec sa nouvelle pièce “Psy Au Logis”. \nRépétitions les lundis de 20h à 22h. \n 
URL:https://autunoismorvan.foyersruraux.org/evenement/theatre-adulte-a-neuvy-grandchamp/2024-10-28/
LOCATION:Neuvy Grandchamp
CATEGORIES:théâtre
ATTACH;FMTTYPE=image/jpeg:https://autunoismorvan.foyersruraux.org/wp-content/uploads/sites/10/2024/10/theatre.jpg
END:VEVENT
END:VCALENDAR