BEGIN:VCALENDAR
VERSION:2.0
PRODID:-//Foyers Ruraux de l&#039;Autunois Morvan - ECPv6.2.9//NONSGML v1.0//EN
CALSCALE:GREGORIAN
METHOD:PUBLISH
X-ORIGINAL-URL:https://autunoismorvan.foyersruraux.org
X-WR-CALDESC:évènements pour Foyers Ruraux de l&#039;Autunois Morvan
REFRESH-INTERVAL;VALUE=DURATION:PT1H
X-Robots-Tag:noindex
X-PUBLISHED-TTL:PT1H
BEGIN:VTIMEZONE
TZID:Europe/Paris
BEGIN:DAYLIGHT
TZOFFSETFROM:+0100
TZOFFSETTO:+0200
TZNAME:CEST
DTSTART:20250330T010000
END:DAYLIGHT
BEGIN:STANDARD
TZOFFSETFROM:+0200
TZOFFSETTO:+0100
TZNAME:CET
DTSTART:20251026T010000
END:STANDARD
END:VTIMEZONE
BEGIN:VEVENT
DTSTART;TZID=Europe/Paris:20250120T193000
DTEND;TZID=Europe/Paris:20250120T213000
DTSTAMP:20260424T140529
CREATED:20241029T130010Z
LAST-MODIFIED:20241029T130010Z
UID:21976-1737401400-1737408600@autunoismorvan.foyersruraux.org
SUMMARY:Atelier théâtre - Toulon sur Arroux
DESCRIPTION:Intervenante : Julie Roux\, metteuse en scène et actrice\, mêlant jeux\, improvisations et travail du jeu d’acteur. \nTous les lundis de 19h30 à 21h30 à la Salle Jean Chandioux \nContact : Lina Zupancic : 07.61.74.92.91 \nCarté adhésion : 24€ / an\nParticipation à l’activité : 160€ / an
URL:https://autunoismorvan.foyersruraux.org/evenement/atelier-theatre-toulon-sur-arroux/2025-01-20/
CATEGORIES:théâtre
ATTACH;FMTTYPE=image/jpeg:https://autunoismorvan.foyersruraux.org/wp-content/uploads/sites/10/2024/10/1000_F_102480447_B7eoQaFfA6crGGQBQXvN8C6ciVk4TgOV-e1730206459389.jpg
END:VEVENT
END:VCALENDAR