BEGIN:VCALENDAR
VERSION:2.0
PRODID:-//Foyers Ruraux de l&#039;Autunois Morvan - ECPv6.2.9//NONSGML v1.0//EN
CALSCALE:GREGORIAN
METHOD:PUBLISH
X-WR-CALNAME:Foyers Ruraux de l&#039;Autunois Morvan
X-ORIGINAL-URL:https://autunoismorvan.foyersruraux.org
X-WR-CALDESC:évènements pour Foyers Ruraux de l&#039;Autunois Morvan
REFRESH-INTERVAL;VALUE=DURATION:PT1H
X-Robots-Tag:noindex
X-PUBLISHED-TTL:PT1H
BEGIN:VTIMEZONE
TZID:Europe/Paris
BEGIN:DAYLIGHT
TZOFFSETFROM:+0100
TZOFFSETTO:+0200
TZNAME:CEST
DTSTART:20250330T010000
END:DAYLIGHT
BEGIN:STANDARD
TZOFFSETFROM:+0200
TZOFFSETTO:+0100
TZNAME:CET
DTSTART:20251026T010000
END:STANDARD
END:VTIMEZONE
BEGIN:VEVENT
DTSTART;TZID=Europe/Paris:20250909T191500
DTEND;TZID=Europe/Paris:20250909T210000
DTSTAMP:20260424T010148
CREATED:20250903T133618Z
LAST-MODIFIED:20250903T133618Z
UID:23145-1757445300-1757451600@autunoismorvan.foyersruraux.org
SUMMARY:Théâtre d'improvisation - La Tagnière
DESCRIPTION:Envie de rigoler \nEnvie de te détendre et de mettre de côté les soucis de la journée \nEnvie de découvrir\, d’epxlorer et de développer ton imaginaire\nEnvie de t’amuser à vivre des situations rocambolesques\, qui sont impossibles dans la “vraie” vie \nViens rejoindre le groupe d’impro théâtrale de La Tagnière \nSéances découverte en septembre ! \nateliers de théâtre d’improvisation\, les mardi de 19h15 à 21h.inscription 06 89 57 55 86 Kristell \n  \nGratuit – avec adhésion au Foyer Rural 18€/an
URL:https://autunoismorvan.foyersruraux.org/evenement/theatre-dimprovisation-la-tagniere/2025-09-09/
LOCATION:La Tagnière\, Salle des fêtes\, La Tagnière\, 71190\, France
CATEGORIES:théâtre
ATTACH;FMTTYPE=image/jpeg:https://autunoismorvan.foyersruraux.org/wp-content/uploads/sites/10/2025/09/theatre-improvisation.jpg
ORGANIZER;CN="Foyer Rural de la Tagni%C3%A8re":MAILTO:foyerlatagnière@gmail.com
END:VEVENT
END:VCALENDAR